BEGIN:VCALENDAR
VERSION:2.0
PRODID:-//ChamberMaster//Event Calendar 2.0//EN
METHOD:PUBLISH
X-PUBLISHED-TTL:P3D
REFRESH-INTERVAL:P3D
CALSCALE:GREGORIAN
BEGIN:VEVENT
DTSTART:20250115T160000Z
DTEND:20250115T173000Z
X-MICROSOFT-CDO-ALLDAYEVENT:FALSE
SUMMARY:Spanish Networking Meeting
DESCRIPTION:January Spanish Networking Group Meeting\n\n  Date: Wednesday\, January 15th\n\n  Time: 10:00 - 11:30 AM\n\n  Location: Christensen Family YMCA Lodge\, 3402 W Military Ave\, Fremont\, NE 68025\n\nStart the new year with meaningful connections at January's Spanish Networking Group Meeting!\n\nSponsored by Creative Collective\, this session offers an opportunity to engage with bilingual professionals\, exchange ideas\, and strengthen ties within the community.   Whether you're new to networking or a seasoned pro\, this is a space for everyone to connect and grow.\n\nWe look forward to seeing you there!  \n\n \n\n\n\n\n\nReuni n del Grupo de Networking en Espa ol de Enero\n\n\n\n  Fecha: Mi rcoles\, 15 de enero\n\n  Hora: 10:00 - 11:30 AM\n\n  Ubicaci n: Christensen Family YMCA Lodge\, 3402 W Military Ave\, Fremont\, NE 68025\n\n Comienza el a o nuevo con conexiones significativas en la reuni n de enero del Grupo de Networking en Espa ol!\n\nPatrocinada por Creative Collective\, esta sesi n ofrece la oportunidad de interactuar con profesionales biling es\, intercambiar ideas y fortalecer los lazos dentro de la comunidad.   Tanto si eres nuevo en el networking como si ya tienes experiencia\, este espacio es para todos.\n\n Esperamos verte all !
X-ALT-DESC;FMTTYPE=text/html:<p style="text-align: center\;"><span style="font-family:verdana\;"><span style="font-size:20px\;"><strong>January Spanish Networking Group Meeting</strong></span></span></p>\n\n<p style="text-align: center\;"><span style="font-family:verdana\;"><span style="font-size:16px\;">&#128197\; <strong>Date:</strong> Wednesday\, January 15th<br />\n&#9200\; <strong>Time:</strong> 10:00 - 11:30 AM<br />\n&#128205\; <strong>Location:</strong> Christensen Family YMCA Lodge\, 3402 W Military Ave\, Fremont\, NE 68025</span></span></p>\n\n<p style="text-align: center\;"><span style="font-family:verdana\;">Start the new year with meaningful connections at January&#39\;s Spanish Networking Group Meeting!<br />\nSponsored by <strong>Creative Collective</strong>\, this session offers an opportunity to engage with bilingual professionals\, exchange ideas\, and strengthen ties within the community. &#127775\; Whether you&#39\;re new to networking or a seasoned pro\, this is a space for everyone to connect and grow.</span></p>\n\n<p style="text-align: center\;"><span style="font-family:verdana\;">We look forward to seeing you there! &#127757\;</span><br />\n&nbsp\;</p>\n\n<div class="flex max-w-full flex-col flex-grow">\n<div class="min-h-8 text-message flex w-full flex-col items-end gap-2 whitespace-normal break-words text-start [.text-message+&amp\;]:mt-5" data-message-author-role="assistant" data-message-id="2ba4eaca-906f-4764-86ae-b1ae13733335" data-message-model-slug="gpt-4o" dir="auto">\n<div class="flex w-full flex-col gap-1 empty:hidden first:pt-[3px]">\n<div class="markdown prose w-full break-words dark:prose-invert light">\n<p style="text-align: center\;"><span style="font-family:verdana\;"><span style="font-size:20px\;"><strong>Reuni&oacute\;n del Grupo de Networking en Espa&ntilde\;ol de Enero</strong></span><br />\n<br />\n<span style="font-size:16px\;">&#128197\; <strong>Fecha:</strong> Mi&eacute\;rcoles\, 15 de enero<br />\n&#9200\; <strong>Hora:</strong> 10:00 - 11:30 AM<br />\n&#128205\; <strong>Ubicaci&oacute\;n:</strong> Christensen Family YMCA Lodge\, 3402 W Military Ave\, Fremont\, NE 68025</span></span></p>\n\n<p style="text-align: center\;"><span style="font-family:verdana\;">&iexcl\;Comienza el a&ntilde\;o nuevo con conexiones significativas en la reuni&oacute\;n de enero del Grupo de Networking en Espa&ntilde\;ol!<br />\nPatrocinada por <strong>Creative Collective</strong>\, esta sesi&oacute\;n ofrece la oportunidad de interactuar con profesionales biling&uuml\;es\, intercambiar ideas y fortalecer los lazos dentro de la comunidad. &#127775\; Tanto si eres nuevo en el networking como si ya tienes experiencia\, este espacio es para todos.</span></p>\n\n<p style="text-align: center\;"><span style="font-family:verdana\;">&iexcl\;Esperamos verte all&iacute\;! &#127757\;</span></p>\n</div>\n</div>\n</div>\n</div>\n
LOCATION:
UID:e.881.16552
SEQUENCE:3
DTSTAMP:20260424T013303Z
URL:http://fremontne.chambermaster.com/events/details/spanish-networking-meeting-16552
END:VEVENT

END:VCALENDAR
