BEGIN:VCALENDAR
VERSION:2.0
PRODID:-//ChamberMaster//Event Calendar 2.0//EN
METHOD:PUBLISH
X-PUBLISHED-TTL:P3D
REFRESH-INTERVAL:P3D
CALSCALE:GREGORIAN
BEGIN:VEVENT
DTSTART:20241016T150000Z
DTEND:20241016T160000Z
X-MICROSOFT-CDO-ALLDAYEVENT:FALSE
SUMMARY:Spanish Networking Group
DESCRIPTION:Spanish Networking Group Meeting\n\n  Wednesday\, October 16\, 2024\n\n  10:00 AM - 11:30 AM\n\n  City Auditorium\, 925 North Broad Street\, Fremont\, NE\n\nJoin us for the October Spanish Networking Group Meeting sponsored by Fremont Family Coalition! This month\, the Greater Fremont Development Council will be sharing insights on community development and growth opportunities.\n\nThis is a fantastic opportunity to connect with other professionals\, learn valuable information\, and expand your network. Don't miss out!   We look forward to seeing you there!\n\n\n\nHelp us support Care Corps' LifeHouse by donating essential items! We are collecting nonperishable foods\, personal hygiene products\, and toilet paper to help those in need. Every contribution\, big or small\, makes a difference in our community. Please consider bringing your donations to help make an impact!\n\n \n\n\n\nReuni n del Grupo de Networking en Espa ol de octubre \n\n  Mi rcoles\, 16 de octubre de 2024\n\n  10:00 AM - 11:30 AM\n\n  Auditorio de la Ciudad\, 925 North Broad Street\, Fremont\, NE\n\n Acomp  anos en la Reuni n de la Red de Negocios en Espa ol de Octubre patrocinada por Fremont Family Coalition! Este mes\, el Greater Fremont Development Council compartir  informaci n sobre el desarrollo comunitario y oportunidades de crecimiento.\n\n\n\n Ay danos a apoyar a Care Corps' LifeHouse donando art culos esenciales! Estamos recolectando alimentos no perecederos\, productos de higiene personal y papel higi nico para ayudar a quienes lo necesitan. Cada contribuci n\, grande o peque a\, marca la diferencia en nuestra comunidad.  Considera traer tus donaciones para ayudar a hacer un impacto!\n\nEs una excelente oportunidad para conectar con otros profesionales\, aprender informaci n valiosa y ampliar tu red de contactos.  No te lo pierdas!    Esperamos verte all !
X-ALT-DESC;FMTTYPE=text/html:<p style="text-align: center\;"><span style="font-size:18px\;"><span style="font-family:verdana\;"><span style="font-size:24px\;"><strong>Spanish Networking Group Meeting</strong></span><br />\n&#128197\; Wednesday\, October 16\, 2024<br />\n&#128344\; 10:00 AM - 11:30 AM<br />\n&#128205\; City Auditorium\, 925 North Broad Street\, Fremont\, NE</span></span></p>\n\n<p style="text-align: center\;"><span style="font-size:18px\;"><span style="font-family:verdana\;">Join us for the <strong>October Spanish Networking Group Meeting</strong> sponsored by <strong>Fremont Family Coalition</strong>! This month\, the <strong>Greater Fremont Development Council</strong> will be sharing insights on community development and growth opportunities.</span></span></p>\n\n<p style="text-align: center\;"><span style="font-size:18px\;"><span style="font-family:verdana\;">This is a fantastic opportunity to connect with other professionals\, learn valuable information\, and expand your network. Don&#39\;t miss out! &#9749\;&nbsp\;We look forward to seeing you there!<br />\n<br />\nHelp us support Care Corps&#39\; LifeHouse by donating essential items! We are collecting nonperishable foods\, personal hygiene products\, and toilet paper to help those in need. Every contribution\, big or small\, makes a difference in our community. Please consider bringing your donations to help make an impact!</span></span><br />\n&nbsp\;</p>\n\n<div style="text-align: center\;"><br />\n<span style="font-size:18px\;"><span style="font-family:verdana\;"><strong style="text-align: center\;"><span style="font-size:24px\;">Reuni&oacute\;n del Grupo de Networking en Espa&ntilde\;ol de octubre&nbsp\;</span></strong></span></span></div>\n\n<p style="text-align: center\;"><span style="font-size:18px\;"><span style="font-family:verdana\;">&#128197\; Mi&eacute\;rcoles\, 16 de octubre de 2024<br />\n&#128344\; 10:00 AM - 11:30 AM<br />\n&#128205\; Auditorio de la Ciudad\, 925 North Broad Street\, Fremont\, NE</span></span></p>\n\n<p style="text-align: center\;"><span style="font-size:18px\;"><span style="font-family:verdana\;">&iexcl\;Acomp&aacute\;&ntilde\;anos en la <strong>Reuni&oacute\;n de la Red de Negocios en Espa&ntilde\;ol de Octubre</strong> patrocinada por <strong>Fremont Family Coalition</strong>! Este mes\, el <strong>Greater Fremont Development Council</strong> compartir&aacute\; informaci&oacute\;n sobre el desarrollo comunitario y oportunidades de crecimiento.<br />\n<br />\n&iexcl\;Ay&uacute\;danos a apoyar a Care Corps&#39\; LifeHouse donando art&iacute\;culos esenciales! Estamos recolectando alimentos no perecederos\, productos de higiene personal y papel higi&eacute\;nico para ayudar a quienes lo necesitan. Cada contribuci&oacute\;n\, grande o peque&ntilde\;a\, marca la diferencia en nuestra comunidad. &iexcl\;Considera traer tus donaciones para ayudar a hacer un impacto!</span></span></p>\n\n<p style="text-align: center\;"><span style="font-size:18px\;"><span style="font-family:verdana\;">Es una excelente oportunidad para conectar con otros profesionales\, aprender informaci&oacute\;n valiosa y ampliar tu red de contactos. &iexcl\;No te lo pierdas! &#9749\;&nbsp\;&iexcl\;Esperamos verte all&iacute\;!</span></span></p>\n
LOCATION:City Auditorium There is also the option to join online via Teams
UID:e.881.16220
SEQUENCE:3
DTSTAMP:20260424T215053Z
URL:http://fremontne.chambermaster.com/events/details/spanish-networking-group-10-16-2024-16220
END:VEVENT

END:VCALENDAR
