BEGIN:VCALENDAR
VERSION:2.0
PRODID:-//ChamberMaster//Event Calendar 2.0//EN
METHOD:PUBLISH
X-PUBLISHED-TTL:P3D
REFRESH-INTERVAL:P3D
CALSCALE:GREGORIAN
BEGIN:VEVENT
DTSTART:20240918T150000Z
DTEND:20240918T163000Z
X-MICROSOFT-CDO-ALLDAYEVENT:FALSE
SUMMARY:Spanish Networking Group
DESCRIPTION:September Spanish Networking Group Meeting  \n\n  Date: Wednesday\, September 18th\n\n  Time: 10:00 - 11:30 AM\n\n  Location: City Auditorium\, 925 North Broad Street\, Fremont\, NE 68025\n\nJoin us for our September Spanish Networking Group Meeting! This month's gathering is proudly sponsored by SpotOn. We're excited to have Carlos Garzon from the Nebraska Business Development Center presenting on valuable insights for our bilingual community.\n\nThis group is open to all bilingual professionals who want to connect\, share experiences\, and build meaningful relationships within the community. Don't miss this opportunity to network\, learn\, and grow together!\n\nWe look forward to seeing you there!   \n\n\n\n \n\n  Reuni n del Grupo de Networking en Espa ol de Septiembre  \n\n  Fecha: Mi rcoles\, 18 de septiembre\n\n  Hora: 10:00 - 11:30 AM\n\n  Lugar: City Auditorium\, 925 North Broad Street\, Fremont\, NE 68025\n\n  nase a nosotros para la reuni n de septiembre del Grupo de Networking en Espa ol! El evento de este mes es orgullosamente patrocinado por SpotOn. Estamos emocionados de contar con Carlos Garz n del Centro de Desarrollo Empresarial de Nebraska\, quien presentar  ideas valiosas para nuestra comunidad biling e.\n\nEste grupo est  abierto a todos los profesionales biling es que desean conectarse\, compartir experiencias y construir relaciones significativas dentro de la comunidad.  No pierda esta oportunidad de hacer networking\, aprender y crecer juntos!\n\n Esperamos verte all !
X-ALT-DESC;FMTTYPE=text/html:<p style="text-align: center\;"><span style="font-size:22px\;"><span style="font-family:verdana\;"><strong>&#127775\; September Spanish Networking Group Meeting &#127775\;</strong></span></span></p>\n\n<p style="text-align: center\;"><span style="font-size:18px\;"><span style="font-family:verdana\;">&#128197\; <strong>Date:</strong> Wednesday\, September 18th<br />\n&#9200\; <strong>Time:</strong> 10:00 - 11:30 AM<br />\n&#128205\; <strong>Location:</strong> City Auditorium\, 925 North Broad Street\, Fremont\, NE 68025</span></span></p>\n\n<p style="text-align: center\;"><span style="font-size:18px\;"><span style="font-family:verdana\;">Join us for our September Spanish Networking Group Meeting! This month&#39\;s gathering is proudly sponsored by <strong>SpotOn</strong>. We&#39\;re excited to have <strong>Carlos Garzon</strong> from the Nebraska Business Development Center presenting on valuable insights for our bilingual community.</span></span></p>\n\n<p style="text-align: center\;"><span style="font-size:18px\;"><span style="font-family:verdana\;">This group is open to all bilingual professionals who want to connect\, share experiences\, and build meaningful relationships within the community.&nbsp\;Don&#39\;t miss this opportunity to network\, learn\, and grow together!</span></span></p>\n\n<p style="text-align: center\;"><span style="font-size:18px\;"><span style="font-family:verdana\;">We look forward to seeing you there! &#127758\;&#10024\;</span></span><br />\n<br />\n&nbsp\;</p>\n\n<p style="text-align: center\;"><strong><span style="font-size:18px\;"><span style="font-family:verdana\;">&#127775\; Reuni&oacute\;n del Grupo de Networking en Espa&ntilde\;ol de Septiembre &#127775\;</span></span></strong></p>\n\n<p style="text-align: center\;"><span style="font-size:18px\;"><span style="font-family:verdana\;">&#128197\; <strong>Fecha</strong>: Mi&eacute\;rcoles\, 18 de septiembre<br />\n&#9200\; <strong>Hora</strong>: 10:00 - 11:30 AM<br />\n&#128205\; <strong>Lugar</strong>: City Auditorium\, 925 North Broad Street\, Fremont\, NE 68025</span></span></p>\n\n<p style="text-align: center\;"><span style="font-size:18px\;"><span style="font-family:verdana\;">&iexcl\;&Uacute\;nase a nosotros para la reuni&oacute\;n de septiembre del Grupo de Networking en Espa&ntilde\;ol! El evento de este mes es orgullosamente patrocinado por SpotOn. Estamos emocionados de contar con Carlos Garz&oacute\;n del Centro de Desarrollo Empresarial de Nebraska\, quien presentar&aacute\; ideas valiosas para nuestra comunidad biling&uuml\;e.</span></span></p>\n\n<p style="text-align: center\;"><span style="font-size:18px\;"><span style="font-family:verdana\;">Este grupo est&aacute\; abierto a todos los profesionales biling&uuml\;es que desean conectarse\, compartir experiencias y construir relaciones significativas dentro de la comunidad. &iexcl\;No pierda esta oportunidad de hacer networking\, aprender y crecer juntos!</span></span></p>\n\n<p style="text-align: center\;"><span style="font-size:18px\;"><span style="font-family:verdana\;">&iexcl\;Esperamos verte all&iacute\;! &#127758\;&#10024\;</span></span></p>\n
LOCATION:There is also the option to join online via Teams
UID:e.881.16219
SEQUENCE:3
DTSTAMP:20260424T235652Z
URL:http://fremontne.chambermaster.com/events/details/spanish-networking-group-09-18-2024-16219
END:VEVENT

END:VCALENDAR
