BEGIN:VCALENDAR
VERSION:2.0
PRODID:-//ChamberMaster//Event Calendar 2.0//EN
METHOD:PUBLISH
X-PUBLISHED-TTL:P3D
REFRESH-INTERVAL:P3D
CALSCALE:GREGORIAN
BEGIN:VEVENT
DTSTART:20240619T150000Z
DTEND:20240619T163000Z
X-MICROSOFT-CDO-ALLDAYEVENT:FALSE
SUMMARY:Spanish Networking Group
DESCRIPTION:June's Spanish Networking Group Meeting - Meeting Sponsored by Diers Ford/Lincoln - Fremont\n\n  Date: June 19th\, 2024  \n\n  Time: 10:00 - 11:30 AM  \n\n  Location: Keene Memorial Library - Community Meeting Room\,\n\n1030 N Broad St\, Fremont\, NE 68025  \n\n\n\nJoin us for June's Spanish Networking Group Meeting\, proudly sponsored by Diers Ford/Lincoln - Fremont!   \n\n\n\nThis month's meeting welcomes all bilingual professionals to come together for a morning of networking and community building. We are honored to have a special presentation by the Guatemalan Consulate in Omaha. Consul General Billy Mu oz will share the latest updates and happenings with the Consulate.\n\n\n\nDon't miss this opportunity to connect with fellow professionals and learn valuable insights. Refreshments will be provided.   \n\n\n\nWe look forward to seeing you there!\n\n\n\nReuni n del Grupo de Networking en Espa ol de Junio - Reuni n Patrocinada por Diers Ford/Lincoln - Fremont\n\n\n\n  Fecha: 19 de junio de 2024  \n\n  Hora: 10:00 - 11:30 AM  \n\n  Lugar: Biblioteca Keene Memorial - Sala de Reuniones Comunitarias\,\n\n1030 N Broad St\, Fremont\, NE 68025  \n\n\n\n  nase a nosotros para la Reuni n del Grupo de Networking en Espa ol de Junio\, patrocinada orgullosamente por Diers Ford/Lincoln - Fremont!   \n\n\n\nLa reuni n de este mes da la bienvenida a todos los profesionales biling es para que se re nan en una ma ana de networking y construcci n de comunidad. Nos honra contar con una presentaci n especial del Consulado de Guatemala en Omaha. El C nsul General Billy Mu oz compartir  las  ltimas actualizaciones y novedades del Consulado.\n\n\n\nNo pierda esta oportunidad de conectarse con otros profesionales y aprender informaci n valiosa. Se proporcionar n refrigerios.   \n\n\n\nEsperamos verle all .\n\n\n\n\n\nSevere Weather:\n\nIf the Fremont Public School District is closed for inclement weather\, the event will be canceled.\n\nClima severo:\n\nSi el Distrito Escolar P blico de Fremont est  cerrado por inclemencias del tiempo\, el evento ser  cancelado.\n\n\n\nPhoto and Video Release:\n\nBy registering and participating in this event\, you consent to the recording of your likeness\, image\, and/or voice and authorize the Fremont Area Chamber to use photographs\, video\, and audio recordings containing your likeness\, image\, and/or voice in any medium for any purpose.\n\nLiberaci n de foto y video:\n\nAl registrarse y participar en este evento\, usted consiente la grabaci n de su apariencia\, imagen y/o voz y autoriza a la C mara de Comercio del  rea de Fremont a utilizar fotograf as\, videos y grabaciones de audio que contengan su apariencia\, imagen y/o voz en cualquier medio para cualquier prop sito.
X-ALT-DESC;FMTTYPE=text/html:<div style="text-align: center\;"><span style="font-size:26px\;"><span style="font-family:verdana\;"><strong>June&#39\;s Spanish Networking Group Meeting - Meeting Sponsored by&nbsp\;</strong></span><strong><span style="font-family: verdana\; text-align: center\;">Diers Ford/Lincoln - Fremont</span></strong></span><br />\n<span style="font-size:18px\;"><span style="font-family:verdana\;">&#128197\; Date:&nbsp\;June 19th\, 2024&nbsp\;&nbsp\;<br />\n&#128345\; Time:&nbsp\;10:00 - 11:30 AM&nbsp\;&nbsp\;<br />\n&#128205\; Location:&nbsp\;Keene Memorial Library - Community Meeting Room\,<br />\n1030 N Broad St\, Fremont\, NE 68025&nbsp\;&nbsp\;<br />\n<br />\nJoin us for June&#39\;s Spanish Networking Group Meeting\, proudly sponsored by Diers Ford/Lincoln - Fremont! &#128663\;&#129309\;<br />\n<br />\nThis month&#39\;s meeting welcomes all bilingual professionals to come together for a morning of networking and community building. We are honored to have a special presentation by the Guatemalan Consulate in Omaha. Consul General Billy Mu&ntilde\;oz&nbsp\;will share the latest updates and happenings with the Consulate.<br />\n<br />\nDon&#39\;t miss this opportunity to connect with fellow professionals and learn valuable insights. Refreshments will be provided. &#9749\;&#127849\;<br />\n<br />\nWe look forward to seeing you there!</span></span><br />\n<br />\n<span style="font-size:18px\;"><span style="font-family:verdana\;"><span style="font-size:26px\;"><strong>Reuni&oacute\;n del Grupo de Networking en Espa&ntilde\;ol de Junio - Reuni&oacute\;n Patrocinada por Diers Ford/Lincoln - Fremont</strong></span><br />\n<br />\n&#128197\; Fecha: 19 de junio de 2024&nbsp\;&nbsp\;<br />\n&#128345\; Hora: 10:00 - 11:30 AM&nbsp\;&nbsp\;<br />\n&#128205\; Lugar: Biblioteca Keene Memorial - Sala de Reuniones Comunitarias\,<br />\n1030 N Broad St\, Fremont\, NE 68025&nbsp\;&nbsp\;<br />\n<br />\n&iexcl\;&Uacute\;nase a nosotros para la Reuni&oacute\;n del Grupo de Networking en Espa&ntilde\;ol de Junio\, patrocinada orgullosamente por Diers Ford/Lincoln - Fremont! &#128663\;&#129309\;<br />\n<br />\nLa reuni&oacute\;n de este mes da la bienvenida a todos los profesionales biling&uuml\;es para que se re&uacute\;nan en una ma&ntilde\;ana de networking y construcci&oacute\;n de comunidad. Nos honra contar con una presentaci&oacute\;n especial del Consulado de Guatemala en Omaha. El C&oacute\;nsul General Billy Mu&ntilde\;oz compartir&aacute\; las &uacute\;ltimas actualizaciones y novedades del Consulado.<br />\n<br />\nNo pierda esta oportunidad de conectarse con otros profesionales y aprender informaci&oacute\;n valiosa. Se proporcionar&aacute\;n refrigerios. &#9749\;&#127849\;<br />\n<br />\nEsperamos verle all&iacute\;.</span></span><br />\n<br />\n<br />\n<u style="text-align: center\;"><em><strong><span style="color: rgb(255\, 0\, 0)\; font-family: verdana\; font-size: 14px\;">Severe Weather:</span></strong></em></u><br style="text-align: center\; color: rgb(255\, 0\, 0)\; font-family: verdana\; font-size: 14px\;" />\n<span style="text-align: center\; font-family: verdana\; font-size: 14px\;">If the Fremont Public School District is closed for inclement weather\, the event will be canceled.</span><br />\n<em style="text-align: center\;"><u><span style="color: rgb(255\, 0\, 0)\;"><strong><span style="font-size: 14px\;"><span style="font-family: verdana\;">Clima severo:</span></span></strong></span></u></em><br style="text-align: center\;" />\n<span style="text-align: center\; font-family: verdana\;"><span style="font-size: 14px\;">Si el Distrito Escolar P&uacute\;blico de Fremont est&aacute\; cerrado por inclemencias del tiempo\, el evento ser&aacute\; cancelado.</span></span><br />\n<br style="text-align: center\; color: rgb(255\, 0\, 0)\; font-family: verdana\; font-size: 14px\;" />\n<u style="text-align: center\;"><em><strong><span style="color: rgb(255\, 0\, 0)\; font-family: verdana\; font-size: 14px\;">Photo and Video Release:</span></strong></em></u><br style="text-align: center\; color: rgb(255\, 0\, 0)\; font-family: verdana\; font-size: 14px\;" />\n<span style="text-align: center\; font-family: verdana\; font-size: 14px\;">By registering and participating in this event\, you consent to the recording of your likeness\, image\, and/or voice and authorize the Fremont Area Chamber to use photographs\, video\, and audio recordings containing your likeness\, image\, and/or voice in any medium for any purpose.</span><br />\n<em style="text-align: center\;"><u><span style="color: rgb(255\, 0\, 0)\;"><strong><span style="font-family: verdana\;"><span style="font-size: 14px\;">Liberaci&oacute\;n de foto y video:</span></span></strong></span></u></em><br style="text-align: center\;" />\n<span style="text-align: center\; font-family: verdana\;">Al registrarse y participar en este evento\, usted consiente la grabaci&oacute\;n de su apariencia\, imagen y/o voz y autoriza a la C&aacute\;mara de Comercio del &Aacute\;rea de Fremont a utilizar fotograf&iacute\;as\, videos y grabaciones de audio que contengan su apariencia\, imagen y/o voz en cualquier medio para cualquier prop&oacute\;sito.</span><br style="text-align: center\; color: rgb(255\, 0\, 0)\; font-family: verdana\; font-size: 14px\;" />\n&nbsp\;</div>\n
LOCATION:Keene Memorial Library - Community Meeting Room There is also the option to join online via Teams
UID:e.881.16216
SEQUENCE:3
DTSTAMP:20260425T212353Z
URL:http://fremontne.chambermaster.com/events/details/spanish-networking-group-06-19-2024-16216
END:VEVENT

END:VCALENDAR
