BEGIN:VCALENDAR
VERSION:2.0
PRODID:-//ChamberMaster//Event Calendar 2.0//EN
METHOD:PUBLISH
X-PUBLISHED-TTL:P3D
REFRESH-INTERVAL:P3D
CALSCALE:GREGORIAN
BEGIN:VEVENT
DTSTART:20240816T140000Z
DTEND:20240816T150000Z
X-MICROSOFT-CDO-ALLDAYEVENT:FALSE
SUMMARY:Masonic Home Chamber Coffee
DESCRIPTION:Join us for a Chamber Coffee at the Masonic Home!   \n\n  Date: Friday\, August 16th\n\n  Time: 9:00 - 10:00 AM\n\n  Location: 2415 N Main St\, Fremont\, NE 68025\n\nStart your day with a cup of coffee and great company! This is a fantastic opportunity to network and connect with fellow Chamber members and the local business community. Don't miss out on the chance to engage in meaningful conversations and build valuable relationships. See you there!  \n\n  Let's sip\, chat\, and grow together!
X-ALT-DESC;FMTTYPE=text/html:<p style="text-align: center\;"><span style="font-size:24px\;"><strong><span style="font-family:verdana\;">Join us for a Chamber Coffee at the Masonic Home! &#9749\;&#10024\;</span></strong></span></p>\n\n<p style="text-align: center\;"><span style="font-size:18px\;"><span style="font-family:verdana\;">&#128197\; Date: Friday\, August 16th<br />\n&#128338\; Time: 9:00 - 10:00 AM<br />\n&#128205\; Location: 2415 N Main St\, Fremont\, NE 68025</span></span></p>\n\n<p style="text-align: center\;"><span style="font-size:18px\;"><span style="font-family:verdana\;">Start your day with a cup of coffee and great company! This is a fantastic opportunity to network and connect with fellow Chamber members and the local business community. Don&#39\;t miss out on the chance to engage in meaningful conversations and build valuable relationships. See you there! &#128101\;</span></span></p>\n\n<p style="text-align: center\;"><span style="font-size:18px\;"><span style="font-family:verdana\;">&#9749\; Let&#39\;s sip\, chat\, and grow together! &#127775\;</span></span></p>\n
LOCATION:
UID:e.881.16367
SEQUENCE:3
DTSTAMP:20260424T234340Z
URL:http://fremontne.chambermaster.com/events/details/masonic-home-chamber-coffee-16367
END:VEVENT

END:VCALENDAR
