BEGIN:VCALENDAR
VERSION:2.0
PRODID:-//ChamberMaster//Event Calendar 2.0//EN
METHOD:PUBLISH
X-PUBLISHED-TTL:P3D
REFRESH-INTERVAL:P3D
CALSCALE:GREGORIAN
BEGIN:VEVENT
DTSTART:20250812T140000Z
DTEND:20250812T150000Z
X-MICROSOFT-CDO-ALLDAYEVENT:FALSE
SUMMARY:JCF Park Groundbreaking
DESCRIPTION:You're Invited to the JCF Park Improvements Groundbreaking Ceremony!   \n\nJoin us as we break ground on an exciting new chapter for John C. Fremont Park! Be part of the celebration as we kick off a series of park improvements that will benefit the entire Fremont community.\n\n  Date: Tuesday\, August 12\n\n  Time: 9:00 AM   10:00 AM\n\n  Location: John C. Fremont Park (9th & Broad St)\n\nBring your energy and community spirit let's dig into the future together!
X-ALT-DESC;FMTTYPE=text/html:<p data-end="223" data-start="144" style="text-align: center\;"><span style="font-size:20px\;"><span style="font-family:verdana\;">&#127881\; <strong data-end="219" data-start="147">You&#39\;re Invited to the JCF Park Improvements Groundbreaking Ceremony!</strong> &#127959\;&#65039\;</span></span></p>\n\n<p data-end="424" data-start="225" style="text-align: center\;"><span style="font-size:20px\;"><span style="font-family:verdana\;">Join us as we break ground on an exciting new chapter for John C. Fremont Park! Be part of the celebration as we kick off a series of park improvements that will benefit the entire Fremont community.</span></span></p>\n\n<p data-end="547" data-start="426" style="text-align: center\;"><span style="font-size:20px\;"><span style="font-family:verdana\;">&#128197\; <strong data-end="438" data-start="429">Date:</strong> Tuesday\, August 12<br data-end="460" data-start="457" />\n&#9200\; <strong data-end="471" data-start="462">Time:</strong> 9:00 AM &ndash\; 10:00 AM<br data-end="493" data-start="490" />\n&#128205\; <strong data-end="509" data-start="496">Location:</strong> John C. Fremont Park (9th &amp\; Broad St)</span></span></p>\n\n<p data-end="626" data-start="549" style="text-align: center\;"><span style="font-size:20px\;"><span style="font-family:verdana\;">Bring your energy and community spirit&mdash\;let&rsquo\;s dig into the future together! &#127793\;</span></span></p>\n
LOCATION:
UID:e.881.16677
SEQUENCE:3
DTSTAMP:20260423T015352Z
URL:http://fremontne.chambermaster.com/events/details/jcf-park-groundbreaking-16677
END:VEVENT

END:VCALENDAR
