BEGIN:VCALENDAR
VERSION:2.0
PRODID:-//ChamberMaster//Event Calendar 2.0//EN
METHOD:PUBLISH
X-PUBLISHED-TTL:P3D
REFRESH-INTERVAL:P3D
CALSCALE:GREGORIAN
BEGIN:VEVENT
DTSTART:20130816T170000Z
DTEND:20130816T180000Z
X-MICROSOFT-CDO-ALLDAYEVENT:FALSE
SUMMARY:Executive Board
DESCRIPTION:
X-ALT-DESC;FMTTYPE=text/html:
LOCATION:Roosevelt Conf. Room Chamber Blding 605 N Broad St
UID:e.881.4016
SEQUENCE:3
DTSTAMP:20260424T142610Z
URL:http://fremontne.chambermaster.com/events/details/executive-board-08-16-2013-4016
END:VEVENT

END:VCALENDAR
