BEGIN:VCALENDAR
VERSION:2.0
PRODID:-//ChamberMaster//Event Calendar 2.0//EN
METHOD:PUBLISH
X-PUBLISHED-TTL:P3D
REFRESH-INTERVAL:P3D
CALSCALE:GREGORIAN
BEGIN:VEVENT
DTSTART:20241009T230000Z
DTEND:20241010T010000Z
X-MICROSOFT-CDO-ALLDAYEVENT:FALSE
SUMMARY:District 15 Forum
DESCRIPTION:Join us for the 2024 District 15 Candidate Forum!   \n\n   Date: Wednesday\, October 9th\n\n  Time: 6:00 PM\n\n  Location: Fremont High School Lecture Hall\, 1750 N Lincoln Ave\, Fremont\, NE 68025\n\nThis is your opportunity to hear directly from the candidates running for legislature in District 15. Come with your curiosity and questions as each candidate will share their views on key issues impacting our community. This event will be moderated by Stan Darling    to ensure a fair and informative discussion.\n\n  Questions: All questions must be submitted prior to the event. To submit a question\, you must RSVP in advance.\n\nDon't miss this chance to engage with the future leaders of our district! Your voice matters be informed and participate!   \n\nWe hope to see you there!
X-ALT-DESC;FMTTYPE=text/html:<p style="text-align: center\;"><span style="font-size:26px\;"><span style="font-family:verdana\;">Join us for the <strong>2024 District 15 Candidate Forum</strong>! &#128499\;&#65039\;</span></span></p>\n\n<p style="text-align: center\;"><span style="font-size:22px\;"><span style="font-family:verdana\;">&#128467\;&#65039\; <strong>Date</strong>: Wednesday\, October 9th<br />\n&#9200\; <strong>Time</strong>: 6:00 PM<br />\n&#128205\; <strong>Location</strong>: Fremont High School Lecture Hall\, 1750 N Lincoln Ave\, Fremont\, NE 68025</span></span></p>\n\n<p style="text-align: center\;"><span style="font-size:22px\;"><span style="font-family:verdana\;">This is your opportunity to hear directly from the candidates running for legislature in District 15. Come with your curiosity and questions as each candidate will share their views on key issues impacting our community. This event will be moderated by <strong>Stan Darling</strong> &#127897\;&#65039\; to ensure a fair and informative discussion.</span></span></p>\n\n<p style="text-align: center\;"><span style="font-size:22px\;"><span style="font-family:verdana\;">&#10067\; <strong>Questions</strong>: All questions must be submitted prior to the event. To submit a question\, you <strong>must RSVP</strong> in advance.</span></span></p>\n\n<p style="text-align: center\;"><span style="font-size:22px\;"><span style="font-family:verdana\;">Don&#39\;t miss this chance to engage with the future leaders of our district! Your voice matters&mdash\;be informed and participate! &#128483\;&#65039\;</span></span></p>\n\n<p style="text-align: center\;"><span style="font-size:22px\;"><span style="font-family:verdana\;">We hope to see you there!</span></span></p>\n
LOCATION:
UID:e.881.16390
SEQUENCE:3
DTSTAMP:20260424T063956Z
URL:http://fremontne.chambermaster.com/events/details/district-15-forum-16390
END:VEVENT

END:VCALENDAR
