BEGIN:VCALENDAR
VERSION:2.0
PRODID:-//ChamberMaster//Event Calendar 2.0//EN
METHOD:PUBLISH
X-PUBLISHED-TTL:P3D
REFRESH-INTERVAL:P3D
CALSCALE:GREGORIAN
BEGIN:VEVENT
DTSTART:20250327T230000Z
DTEND:20250328T010000Z
X-MICROSOFT-CDO-ALLDAYEVENT:FALSE
SUMMARY:Ag Trivia
DESCRIPTION:Celebrate National Ag Week with Ag Trivia!  \n\n \n\n  Date: Thursday\, March 27th\n\n  Time: 6:00 - 8:00 PM\n\n  Location: City Auditorium\, 925 N Broad St\, Fremont\, NE\n\n \n\nGather your team of 8 and put your agriculture knowledge to the test! Join us for a fun-filled evening of trivia\, prizes\, and community spirit as we celebrate the heart of our economy AGRICULTURE!
X-ALT-DESC;FMTTYPE=text/html:<div style="text-align: center\;"><span style="font-size:22px\;"><span style="font-family:verdana\;"><span style="font-size:26px\;"><strong>&#127806\; Celebrate National Ag Week with Ag Trivia! &#127806\;</strong></span></span></span><br />\n&nbsp\;</div>\n\n<div style="text-align: center\;"><span style="font-family:verdana\;"><span style="font-size:20px\;"><span style="font-size:22px\;">&#128197\; <strong data-end="75" data-start="66">Date:</strong> Thursday\, March&nbsp\;27th<br data-end="102" data-start="99" />\n&#9200\; <strong data-end="113" data-start="104">Time:</strong>&nbsp\;6:00 - 8:00 PM<br />\n&#128205\; <strong data-end="147" data-start="134">Location:</strong>&nbsp\;City Auditorium\, 925 N Broad St\, Fremont\, NE</span></span></span><br />\n&nbsp\;</div>\n\n<div style="text-align: center\;"><span style="font-size:22px\;"><span style="font-family:verdana\;">Gather your team of 8 and put your agriculture knowledge to the test! Join us for a fun-filled evening of trivia\, prizes\, and community spirit as we celebrate the heart of our economy&mdash\;AGRICULTURE! &#127793\;&#128004\;</span></span></div>\n
LOCATION:
UID:e.881.16403
SEQUENCE:3
DTSTAMP:20260422T123849Z
URL:http://fremontne.chambermaster.com/events/details/ag-trivia-16403
END:VEVENT

END:VCALENDAR
