BEGIN:VCALENDAR
VERSION:2.0
PRODID:-//ChamberMaster//Event Calendar 2.0//EN
METHOD:PUBLISH
X-PUBLISHED-TTL:P3D
REFRESH-INTERVAL:P3D
CALSCALE:GREGORIAN
BEGIN:VEVENT
DTSTART:20250418T113000Z
DTEND:20250418T130000Z
X-MICROSOFT-CDO-ALLDAYEVENT:FALSE
SUMMARY:2025 Prayer Breakfast
DESCRIPTION:2025 Prayer Breakfast \n\n\n\nApril 18\, 2025 \n\n6:30 AM \n\n\n\nMidland University
X-ALT-DESC;FMTTYPE=text/html:<div style="text-align: center\;"><span style="font-family:verdana\;"><strong><span style="font-size:22px\;">2025 Prayer Breakfast&nbsp\;</span></strong></span><br />\n<br />\n<span style="font-size:20px\;">April 18\, 2025&nbsp\;<br />\n6:30 AM&nbsp\;<br />\n<br />\nMidland University</span>&nbsp\;</div>\n
LOCATION:Midland University Wikert Event Center /Hopkins Arena
UID:e.881.16581
SEQUENCE:3
DTSTAMP:20260423T033928Z
URL:http://fremontne.chambermaster.com/events/details/2025-prayer-breakfast-16581
END:VEVENT

END:VCALENDAR
